BEGIN:VCALENDAR
VERSION:2.0
PRODID:-//ChamberMaster//Event Calendar 2.0//EN
METHOD:PUBLISH
X-PUBLISHED-TTL:P3D
REFRESH-INTERVAL:P3D
CALSCALE:GREGORIAN
BEGIN:VEVENT
DTSTART:20250615T180000Z
DTEND:20250616T043000Z
X-MICROSOFT-CDO-ALLDAYEVENT:FALSE
SUMMARY:Radici Father's Day Lunch & Dinner
DESCRIPTION:This Father's Day\, honor the father figures in your life with a delightful Italian dining experience at Radici. We invite you to join us on Sunday\, June 15\, for a meal that embodies the warmth of family and the authentic flavors of Italian cuisine.\n\n\n\nWe're serving both lunch (11 AM - 2 PM) and dinner (4 PM - 9:30 PM)\, featuring Chef Lucia's dishes that are as comforting as they are delectable.\n\n\n\nMake it a day to remember reserve your table now and treat Dad to a meal he won't forget.
X-ALT-DESC;FMTTYPE=text/html:This Father&#39\;s Day\, honor the father figures in your life with a delightful Italian dining experience at Radici. We invite you to join us on Sunday\, June 15\, for a meal that embodies the warmth of family and the authentic flavors of Italian cuisine.<br />\n<br />\nWe&#39\;re serving both <strong>lunch (11 AM - 2 PM) and dinner (4 PM - 9:30 PM)</strong>\, featuring Chef Lucia&#39\;s dishes that are as comforting as they are delectable.<br />\n<br />\nMake it a day to remember&mdash\;reserve your table now and treat Dad to a meal he won&#39\;t forget.
LOCATION:Radici 934 Hermosa Ave Hermosa Beach\, CA
UID:e.2438.12385
SEQUENCE:3
DTSTAMP:20260423T004220Z
URL:https://business.hbchamber.net/events/details/radici-father-s-day-lunch-dinner-12385
END:VEVENT

END:VCALENDAR
