BEGIN:VCALENDAR
VERSION:2.0
PRODID:-//ChamberMaster//Event Calendar 2.0//EN
METHOD:PUBLISH
X-PUBLISHED-TTL:P3D
REFRESH-INTERVAL:P3D
CALSCALE:GREGORIAN
BEGIN:VEVENT
DTSTART:20240429T010000Z
DTEND:20240429T040000Z
X-MICROSOFT-CDO-ALLDAYEVENT:FALSE
SUMMARY:Radici Chef's Table Wine Dinner
DESCRIPTION:Indulge in a delicious meal prepared by our talented chef\, featuring sumptuous dishes paired with hand-picked wines chosen for their perfectly complimentary flavors. \n\n\n\nOur dinner and wine pairing evening will be $99 plus tax and a 23% service fee.
X-ALT-DESC;FMTTYPE=text/html:Indulge in a delicious meal prepared by our talented chef\, featuring sumptuous dishes paired with hand-picked wines chosen for their perfectly complimentary flavors.&nbsp\;<br />\n<br />\nOur dinner and wine pairing evening will be $99 plus tax and a 23% service fee.&nbsp\;
LOCATION:Radici 934 Hermosa Ave Hermosa Beach\, CA 90254 (310) 318-0778
UID:e.2438.9448
SEQUENCE:3
DTSTAMP:20260421T135501Z
URL:https://business.hbchamber.net/events/details/radici-chef-s-table-wine-dinner-9448
END:VEVENT

END:VCALENDAR
