BEGIN:VCALENDAR
VERSION:2.0
PRODID:-//ChamberMaster//Event Calendar 2.0//EN
METHOD:PUBLISH
X-PUBLISHED-TTL:P3D
REFRESH-INTERVAL:P3D
CALSCALE:GREGORIAN
BEGIN:VEVENT
DTSTART:20241104T020000Z
DTEND:20241104T040000Z
X-MICROSOFT-CDO-ALLDAYEVENT:FALSE
SUMMARY:Radici Chef's Table Wine Dinner
DESCRIPTION:Indulge in a delicious meal prepared by our talented chef\, featuring sumptuous dishes paired with hand-picked wines chosen for their perfectly complementary flavors. Learn about the delicate intricacies of Italian wine and savor rich paired courses\, chosen for their symphony of flavors.
X-ALT-DESC;FMTTYPE=text/html:Indulge in a delicious meal prepared by our talented chef\, featuring sumptuous dishes paired with hand-picked wines chosen for their perfectly complementary flavors.&nbsp\;Learn about the delicate intricacies of Italian wine and savor rich paired courses\, chosen for their symphony of flavors.&nbsp\;
LOCATION:Radici 934 Hermosa Ave Hermosa Beach\, CA 90254
UID:e.2438.10734
SEQUENCE:3
DTSTAMP:20260422T194432Z
URL:https://business.hbchamber.net/events/details/radici-chef-s-table-wine-dinner-10734
END:VEVENT

END:VCALENDAR
