BEGIN:VCALENDAR
VERSION:2.0
PRODID:-//ChamberMaster//Event Calendar 2.0//EN
METHOD:PUBLISH
X-PUBLISHED-TTL:P3D
REFRESH-INTERVAL:P3D
CALSCALE:GREGORIAN
BEGIN:VEVENT
DTSTART:20250613T010000Z
DTEND:20250613T053000Z
X-MICROSOFT-CDO-ALLDAYEVENT:FALSE
SUMMARY:Queer Music Night w/ Boz & Friends
DESCRIPTION:A night of great music performed by local queer musicians! Featuring: BOZ w/ Kikko Mai\, Chloe Moser\, Royal She & Madam Bombs\n\n 21+ Only at Saint Rocke
X-ALT-DESC;FMTTYPE=text/html:A night of great music performed by local queer musicians! Featuring: BOZ w/ Kikko Mai\, Chloe Moser\, Royal She &amp\; Madam Bombs<br />\n<em><strong>&#8203\;21+ Only at Saint Rocke</strong></em>
LOCATION:Saint Rocke 142 Pacific Coast Hwy Hermosa Beach\, CA
UID:e.2438.12389
SEQUENCE:3
DTSTAMP:20260423T004415Z
URL:https://business.hbchamber.net/events/details/queer-music-night-w-boz-friends-12389
END:VEVENT

END:VCALENDAR
