BEGIN:VCALENDAR
VERSION:2.0
PRODID:-//ChamberMaster//Event Calendar 2.0//EN
METHOD:PUBLISH
X-PUBLISHED-TTL:P3D
REFRESH-INTERVAL:P3D
CALSCALE:GREGORIAN
BEGIN:VEVENT
DTSTART:20260319T230000Z
DTEND:20260320T010000Z
X-MICROSOFT-CDO-ALLDAYEVENT:FALSE
SUMMARY:Quality Inn Ribbon Cutting & Grand Re-opening Reception *CHAMBER MEMBERS ONLY*
DESCRIPTION:Join us for the Quality Inn & Suites Ribbon Cutting and Grand Re-opening Reception!
X-ALT-DESC;FMTTYPE=text/html:Join us for the Quality Inn &amp\; Suites Ribbon Cutting and Grand Re-opening Reception!
LOCATION:Quality Inn & Suites 901 Aviation Blvd Hermosa Beach\, CA 90254
UID:e.2438.15282
SEQUENCE:3
DTSTAMP:20260421T180139Z
URL:https://business.hbchamber.net/events/details/quality-inn-ribbon-cutting-grand-re-opening-reception-chamber-members-only-15282
END:VEVENT

END:VCALENDAR
