BEGIN:VCALENDAR
VERSION:2.0
PRODID:-//ChamberMaster//Event Calendar 2.0//EN
METHOD:PUBLISH
X-PUBLISHED-TTL:P3D
REFRESH-INTERVAL:P3D
CALSCALE:GREGORIAN
BEGIN:VEVENT
DTSTART:20240228T000000Z
DTEND:20240228T020000Z
X-MICROSOFT-CDO-ALLDAYEVENT:FALSE
SUMMARY:QPR Suicide Prevention Training
DESCRIPTION:QPR Suicide Prevention Training helps individuals recognize warning signs of a suicide crisis and how to Question\, Persuade and Refer someone to help. The training is aimed at equipping people with the knowledge and skills necessary to intervene and support someone who may be struggling with suicidal thoughts or behaviors. Attendees will have the opportunity to take home a free Narcan (common brand name of naloxone) kit. Naloxone is a life-saving opioid reversal medication when administered immediately after a potential opioid overdose. BCHD's supply of naloxone is provided by the California Department of Health Care Services' Naloxone Distribution Project.  514 N. Prospect Ave\, Redondo Beach\, Beach Cities Room\, Lower Level.
X-ALT-DESC;FMTTYPE=text/html:QPR Suicide Prevention Training helps individuals recognize warning signs of a suicide crisis and how to Question\, Persuade and Refer someone to help. The training is aimed at equipping people with the knowledge and skills necessary to intervene and support someone who may be struggling with suicidal thoughts or behaviors. Attendees will have the opportunity to take home a free Narcan (common brand name of naloxone) kit. Naloxone is a life-saving opioid reversal medication when administered immediately after a potential opioid overdose. BCHD&rsquo\;s supply of naloxone is provided by the California Department of Health Care Services&rsquo\; Naloxone Distribution Project.&nbsp\; 514 N. Prospect Ave\, Redondo Beach\, Beach Cities Room\, Lower Level.<br />\n
LOCATION:514 N. Prospect Ave\, Redondo Beach\, Beach Cities Room\, Lower Level.
UID:e.2438.9315
SEQUENCE:3
DTSTAMP:20260419T131342Z
URL:https://business.hbchamber.net/events/details/qpr-suicide-prevention-training-9315
END:VEVENT

END:VCALENDAR
