BEGIN:VCALENDAR
VERSION:2.0
PRODID:-//ChamberMaster//Event Calendar 2.0//EN
METHOD:PUBLISH
X-PUBLISHED-TTL:P3D
REFRESH-INTERVAL:P3D
CALSCALE:GREGORIAN
BEGIN:VEVENT
DTSTART:20250718T010000Z
DTEND:20250718T030000Z
X-MICROSOFT-CDO-ALLDAYEVENT:FALSE
SUMMARY:Punk Art Show Opening Exhibit
DESCRIPTION:The Hermosa Beach Museum is proud to announce our upcoming summer rotating exhibit\, Echoes from the Edge: A Cultural History of Jazz and Punk in Hermosa Beach.\n\n\n\nJoin us for the opening event and Punk Rock Art Show on Thursday July 17th from 6-8 PM.\n\n\n\nHermosa Beach has long been more than just a sunny coastal town   it has served as a creative refuge for groundbreaking artists and musicians. Echoes from the Edge explores the unique cultural crossroads where two seemingly opposite genres   jazz and punk   found a shared home that embraced innovation and artistic freedom.\n\n\n\nFrom the world-renowned stage of The Lighthouse Caf  to the raw energy of backyard punk shows\, this exhibit traces how Hermosa became a launchpad for both smooth improvisation and gritty defiance. Through rare photographs\, archival materials and storytelling\, Echoes from the Edge celebrates the artists\, venues\, and moments that helped shape a national music legacy from right here at the edge of the Pacific.\n\n\n\nThis original exhibition offers a new perspective on how music\, place\, and community collide   and invites audiences to experience Hermosa's influence on American music history like never before.\n\n\n\nWANT TO SUPPORT OUR EXHIBIT? CHECK OUR OUR SPONSOR PACKET HERE!
X-ALT-DESC;FMTTYPE=text/html:The Hermosa Beach Museum is proud to announce our upcoming summer rotating exhibit\, Echoes from the Edge: A Cultural History of Jazz and Punk in Hermosa Beach.<br />\n<br />\n<strong>Join us for the opening event and Punk Rock Art Show on Thursday July 17th from 6-8 PM.</strong><br />\n<br />\nHermosa Beach has long been more than just a sunny coastal town &mdash\; it has served as a creative refuge for groundbreaking artists and musicians. Echoes from the Edge explores the unique cultural crossroads where two seemingly opposite genres &mdash\; jazz and punk &mdash\; found a shared home that embraced innovation and artistic freedom.<br />\n<br />\nFrom the world-renowned stage of The Lighthouse Caf&eacute\; to the raw energy of backyard punk shows\, this exhibit traces how Hermosa became a launchpad for both smooth improvisation and gritty defiance. Through rare photographs\, archival materials and storytelling\, Echoes from the Edge celebrates the artists\, venues\, and moments that helped shape a national music legacy from right here at the edge of the Pacific.<br />\n<br />\nThis original exhibition offers a new perspective on how music\, place\, and community collide &mdash\; and invites audiences to experience Hermosa&rsquo\;s influence on American music history like never before.<br />\n<br />\nWANT TO SUPPORT OUR EXHIBIT? CHECK OUR OUR SPONSOR PACKET <a href="https://mcusercontent.com/e2d2c7d23b7ca88dfdf4d3927/files/866b18d0-b030-fc99-5240-d828cca9c389/Echoes_from_the_Edge_Exhibit_Sponsor_packet_1_.pdf?utm_source=Museum+Subscribers&amp\;utm_campaign=81d5e7c71f-EMAIL_CAMPAIGN_2025_06_13_03_28&amp\;utm_medium=email&amp\;utm_term=0_-81d5e7c71f-356668053">HERE</a>!
LOCATION:Hermosa Beach Museum 710 Pier Ave Hermosa Beach\, CA
UID:e.2438.12466
SEQUENCE:3
DTSTAMP:20260423T040109Z
URL:https://business.hbchamber.net/events/details/punk-art-show-opening-exhibit-12466
END:VEVENT

END:VCALENDAR
