BEGIN:VCALENDAR
VERSION:2.0
PRODID:-//ChamberMaster//Event Calendar 2.0//EN
METHOD:PUBLISH
X-PUBLISHED-TTL:P3D
REFRESH-INTERVAL:P3D
CALSCALE:GREGORIAN
BEGIN:VEVENT
DTSTART:20250116T020000Z
DTEND:20250116T060000Z
X-MICROSOFT-CDO-ALLDAYEVENT:FALSE
SUMMARY:Public Works Commission Meeting
DESCRIPTION:A regular meeting of the Hermosa Beach Public Works Commission is scheduled for Wednesday\, January 15\, 2025 at 6:00 p.m.\n\n\n\nTo review the meeting agenda (to be posted at least 72 hours prior to the meeting)\, go to the Agendas\, Minutes & Videos page of our website and select the appropriate meeting date.
X-ALT-DESC;FMTTYPE=text/html:A regular meeting of the Hermosa Beach Public Works Commission is scheduled for Wednesday\, January 15\, 2025 at 6:00 p.m.<br />\n<br />\nTo review the meeting agenda (to be posted at least 72 hours prior to the meeting)\, go to the <a href="https://www.hermosabeach.gov/our-community/agendas-minutes-video#!/">Agendas\, Minutes &amp\; Videos</a> page of our website and select the appropriate meeting date.
LOCATION:Council Chambers 1315 Valley Drive Hermosa Beach\, CA 90254
UID:e.2438.11135
SEQUENCE:3
DTSTAMP:20260420T183309Z
URL:https://business.hbchamber.net/events/details/public-works-commission-meeting-11135
END:VEVENT

END:VCALENDAR
