BEGIN:VCALENDAR
VERSION:2.0
PRODID:-//ChamberMaster//Event Calendar 2.0//EN
METHOD:PUBLISH
X-PUBLISHED-TTL:P3D
REFRESH-INTERVAL:P3D
CALSCALE:GREGORIAN
BEGIN:VEVENT
DTSTART:20250612T013000Z
DTEND:20250612T023000Z
X-MICROSOFT-CDO-ALLDAYEVENT:FALSE
SUMMARY:Pride x Hermosa Run Club
DESCRIPTION:Meet up with the Hermosa Run Club group on Wednesday evening at HB Pier Plaza (by the surfer statue) and join the group as they do their weekly Pier-to-Pier Run at 6:30pm - in your best Pride gear of course.
X-ALT-DESC;FMTTYPE=text/html:Meet up with the Hermosa Run Club group on Wednesday evening at HB Pier Plaza (by the surfer statue) and join the group as they do their weekly Pier-to-Pier Run at 6:30pm - in your best Pride gear of course.
LOCATION:Hermosa Beach Pier Plaza
UID:e.2438.12388
SEQUENCE:3
DTSTAMP:20260423T004219Z
URL:https://business.hbchamber.net/events/details/pride-x-hermosa-run-club-12388
END:VEVENT

END:VCALENDAR
