BEGIN:VCALENDAR
VERSION:2.0
PRODID:-//ChamberMaster//Event Calendar 2.0//EN
METHOD:PUBLISH
X-PUBLISHED-TTL:P3D
REFRESH-INTERVAL:P3D
CALSCALE:GREGORIAN
BEGIN:VEVENT
DTSTART:20250614T193000Z
DTEND:20250614T200000Z
X-MICROSOFT-CDO-ALLDAYEVENT:FALSE
SUMMARY:Pride Strand Parade & Group Picture
DESCRIPTION:Meet at either BOLT\, Gitana Cafe\, or The North End Bar & Grill and strut down the Strand to the Pride Tower for the infamous group picture! Wear your most rainbow-riffic gear to show up and show out!
X-ALT-DESC;FMTTYPE=text/html:Meet at either BOLT\, Gitana Cafe\, or The North End Bar &amp\; Grill and strut down the Strand to the Pride Tower for the infamous group picture!&nbsp\;Wear your most rainbow-riffic gear to show up and show out!
LOCATION:PRIDE Lifeguard Tower
UID:e.2438.12392
SEQUENCE:3
DTSTAMP:20260423T003954Z
URL:https://business.hbchamber.net/events/details/pride-strand-parade-group-picture-12392
END:VEVENT

END:VCALENDAR
