BEGIN:VCALENDAR
VERSION:2.0
PRODID:-//ChamberMaster//Event Calendar 2.0//EN
METHOD:PUBLISH
X-PUBLISHED-TTL:P3D
REFRESH-INTERVAL:P3D
CALSCALE:GREGORIAN
BEGIN:VEVENT
DTSTART:20250614T180000Z
DTEND:20250614T193000Z
X-MICROSOFT-CDO-ALLDAYEVENT:FALSE
SUMMARY:Pride Mornin' Meet-up
DESCRIPTION:Grab breakfast with friends and family before we gather up and march down the strand to join groups at the Pride Lifeguard Tower.
X-ALT-DESC;FMTTYPE=text/html:Grab breakfast with friends and family before we gather up and march down the strand to join groups at the Pride Lifeguard Tower.
LOCATION:Meet-ups happening at two locations from 11am-12:30pm North end: Gitana Cafe & The North End Bar & Grill South end: BOLT Hermosa Beach
UID:e.2438.12391
SEQUENCE:3
DTSTAMP:20260423T023848Z
URL:https://business.hbchamber.net/events/details/pride-mornin-meet-up-12391
END:VEVENT

END:VCALENDAR
