BEGIN:VCALENDAR
VERSION:2.0
PRODID:-//ChamberMaster//Event Calendar 2.0//EN
METHOD:PUBLISH
X-PUBLISHED-TTL:P3D
REFRESH-INTERVAL:P3D
CALSCALE:GREGORIAN
BEGIN:VEVENT
DTSTART:20250614T030000Z
DTEND:20250614T060000Z
X-MICROSOFT-CDO-ALLDAYEVENT:FALSE
SUMMARY:Pride Kick-Off Party
DESCRIPTION:Mix and mingle with other South Bay queers and allies at our Hermosa Pride Kickoff Party! Bring your dancing shoes and come early if you want to participate in some meet & greet games. 21+ only\, allies welcome!
X-ALT-DESC;FMTTYPE=text/html:Mix and mingle with other South Bay queers and allies at our Hermosa Pride Kickoff Party! Bring your dancing shoes and come early if you want to participate in some meet &amp\; greet games.&nbsp\;<em><strong>21+ only</strong></em>\, allies welcome!
LOCATION:The Studio 636 Cypress Ave Hermosa Beach\, CA
UID:e.2438.12390
SEQUENCE:3
DTSTAMP:20260423T003836Z
URL:https://business.hbchamber.net/events/details/pride-kick-off-party-12390
END:VEVENT

END:VCALENDAR
