BEGIN:VCALENDAR
VERSION:2.0
PRODID:-//ChamberMaster//Event Calendar 2.0//EN
METHOD:PUBLISH
X-PUBLISHED-TTL:P3D
REFRESH-INTERVAL:P3D
CALSCALE:GREGORIAN
BEGIN:VEVENT
DTSTART:20250614T200000Z
DTEND:20250614T230000Z
X-MICROSOFT-CDO-ALLDAYEVENT:FALSE
SUMMARY:Pride Community Beach Day
DESCRIPTION:Surf\, Sun\, Swim\, Sand . Join us at the beach near the Pride Tower for a fun-filled beach day! Families welcome.\n\n\n\nEvent Details:\n\n	Set up early (starting at 10am)\n	volunteers will be on site to keep an eye on everything\n	free Beach activites from 1pm-4pm\n	all ages\, all inclusive
X-ALT-DESC;FMTTYPE=text/html:Surf\, Sun\, Swim\, Sand&hellip\;. Join us at the beach near the Pride Tower for a fun-filled beach day! Families welcome.<br />\n<br />\nEvent Details:\n<ul>\n	<li>Set up early (starting at 10am)</li>\n	<li>volunteers will be on site to keep an eye on everything</li>\n	<li>free Beach activites from 1pm-4pm</li>\n	<li>all ages\, all inclusive</li>\n</ul>\n
LOCATION:PRIDE Lifeguard Tower Hermosa Beach\, CA
UID:e.2438.12393
SEQUENCE:3
DTSTAMP:20260423T002217Z
URL:https://business.hbchamber.net/events/details/pride-community-beach-day-12393
END:VEVENT

END:VCALENDAR
