BEGIN:VCALENDAR
VERSION:2.0
PRODID:-//ChamberMaster//Event Calendar 2.0//EN
METHOD:PUBLISH
X-PUBLISHED-TTL:P3D
REFRESH-INTERVAL:P3D
CALSCALE:GREGORIAN
BEGIN:VEVENT
DTSTART:20250615T160000Z
DTEND:20250615T180000Z
X-MICROSOFT-CDO-ALLDAYEVENT:FALSE
SUMMARY:Pride Beach Werkout
DESCRIPTION:Surf\, Sun\, Swim\, Sand . Join us at the beach near the Pride Tower for a work out!
X-ALT-DESC;FMTTYPE=text/html:Surf\, Sun\, Swim\, Sand&hellip\;. Join us at the beach near the Pride Tower for a work out!
LOCATION:PRIDE Lifeguard Tower Hermosa Beach\, CA
UID:e.2438.12397
SEQUENCE:3
DTSTAMP:20260423T003857Z
URL:https://business.hbchamber.net/events/details/pride-beach-werkout-12397
END:VEVENT

END:VCALENDAR
