BEGIN:VCALENDAR
VERSION:2.0
PRODID:-//ChamberMaster//Event Calendar 2.0//EN
METHOD:PUBLISH
X-PUBLISHED-TTL:P3D
REFRESH-INTERVAL:P3D
CALSCALE:GREGORIAN
BEGIN:VEVENT
DTSTART:20250615T060000Z
DTEND:20250615T090000Z
X-MICROSOFT-CDO-ALLDAYEVENT:FALSE
SUMMARY:Pride After Party
DESCRIPTION:Continue the pride festivities at Artesia Bar - if you can keep the party going after the Drag Show that is!      \n\nThis event is for adults age 21+ only.
X-ALT-DESC;FMTTYPE=text/html:Continue the pride festivities at Artesia Bar - if you can keep the party going after the Drag Show that is! &#129705\;&#127867\;&#128131\;&#127995\;&#128378\;<br />\n<em><strong>This event is for adults age 21+ only.</strong></em>
LOCATION:Artesia Bar 1991 Artesia Blvd Redondo Beach\, CA
UID:e.2438.12396
SEQUENCE:3
DTSTAMP:20260423T003838Z
URL:https://business.hbchamber.net/events/details/pride-after-party-12396
END:VEVENT

END:VCALENDAR
