BEGIN:VCALENDAR
VERSION:2.0
PRODID:-//ChamberMaster//Event Calendar 2.0//EN
METHOD:PUBLISH
X-PUBLISHED-TTL:P3D
REFRESH-INTERVAL:P3D
CALSCALE:GREGORIAN
BEGIN:VEVENT
DTSTART:20250120T010000Z
DTEND:20250120T023000Z
X-MICROSOFT-CDO-ALLDAYEVENT:FALSE
SUMMARY:Portrait Drawing with Andrew Arvan
DESCRIPTION:Drawing human faces can be a daunting task  but it doesn't have to be! In this workshop for adults and kids (ages 12+)\, we will learn how to draw simple portraits of the human head by going step-by-step and breaking them down into basic shapes and lines to get the proportions and map out the facial features. Led by Andrew Arvan\, an artist and animator local to the Redondo Beach area and an alumni of Otis College of Art and Design. Save your spot today!
X-ALT-DESC;FMTTYPE=text/html:Drawing human faces can be a daunting task&hellip\; but it doesn&rsquo\;t have to be! In this workshop for adults and kids (ages 12+)\, we will learn how to draw simple portraits of the human head by going step-by-step and breaking them down into basic shapes and lines to get the proportions and map out the facial features. Led by Andrew Arvan\, an artist and animator local to the Redondo Beach area and an alumni of Otis College of Art and Design. Save your spot today!
LOCATION:The Artist Mill 1138 Hermosa Ave Hermosa Beach\, CA 90254
UID:e.2438.11398
SEQUENCE:3
DTSTAMP:20260420T184436Z
URL:https://business.hbchamber.net/events/details/portrait-drawing-with-andrew-arvan-11398
END:VEVENT

END:VCALENDAR
