BEGIN:VCALENDAR
VERSION:2.0
PRODID:-//ChamberMaster//Event Calendar 2.0//EN
METHOD:PUBLISH
X-PUBLISHED-TTL:P3D
REFRESH-INTERVAL:P3D
CALSCALE:GREGORIAN
BEGIN:VEVENT
DTSTART:20220331T230000Z
DTEND:20220401T020000Z
X-MICROSOFT-CDO-ALLDAYEVENT:FALSE
SUMMARY:Pop-Up Prom Dress Giveaway Event "Say Yes to the Dress"
DESCRIPTION:In honor of Women's History Month\, Dignity Health Sports Park's ASCSC Community Foundation\, LA Galaxy Foundation\, Los Angeles Lakers Youth Foundation and Kings Care Foundation will partner with AT&T and Becca's Closet to host a pop-new prom dress giveaway "Yes! That's My Dress" extravaganza at Dignity Health Sports Park in the American Express Stadium Club on Thursday\, March 31 at 4 p.m. PT.\n\n\n\nThe pop-up event will provide underprivileged young ladies the opportunity to secure their own brand-new prom dress during a welcoming and empowering experience\, where the young ladies will feel beautiful\, regardless of their families' socioeconomic status.\n\n \n\n"In 2019\, we gave away 1\,000 dresses to young ladies in need. We're happy to close Women's History Month by offering young high school girls the opportunity to select their prom dresses in-person once again"\, Tamala Lewis\, Sr Director\, Community Relations & Foundation\, Dignity Health Sports Park - AEG.\n\n \n\nThe event's goal is to inspire\, enlighten\, and mentor young ladies to know their value and empower them with confidence and resources to achieve personal success\, as well as providing everlasting memories from their prom night and beyond. The first 50 young ladies in attendance will receive a family pack of four tickets to the LA Galaxy's Saturday\, April 23 match against Nashville SC at Dignity Health Sports Park.  \n\n\n\n\n\n\n\nAll young ladies will be required to show a high school student ID and sign a photo release waiver at check-in.
X-ALT-DESC;FMTTYPE=text/html:<div style="font-family:Calibri\, Arial\, Helvetica\, sans-serif\;font-size:12pt\;color:rgb(0\, 0\, 0)\;"><strong style="color:rgb(32\, 31\, 30)\;font-family:Calibri\, sans-serif\;font-size:14.6667px\;"><span style="font-size:12pt\;"><span style="font-weight:400\;"><span style="font-size:10pt\;"><span style="font-family:times new roman\,times\,serif\;"><span style="color:#262626\;">In honor of Women&#39\;s History Month\, Dignity Health Sports Park&rsquo\;s ASCSC Community Foundation\, LA Galaxy Foundation\, Los Angeles Lakers Youth Foundation and Kings Care Foundation will partner with AT&amp\;T and Becca&rsquo\;s Closet to host a pop-new prom dress giveaway &ldquo\;Yes! That&rsquo\;s My Dress&rdquo\; extravaganza at Dignity Health Sports Park in the American Express Stadium Club on Thursday\, March 31 at 4 p.m. PT.</span></span></span></span><br />\n<br style="color:rgb(38\, 38\, 38)\;font-size:14px\;font-weight:400\;" />\n<span style="font-weight:400\;"><span style="font-size:10pt\;"><span style="font-family:times new roman\,times\,serif\;"><span style="color:#262626\;">The pop-up event will provide underprivileged young ladies the opportunity to secure their own brand-new prom dress during a welcoming and empowering experience\, where the young ladies will feel beautiful\, regardless of their families&rsquo\; socioeconomic status.</span></span></span></span></span></strong></div>\n\n<div style="font-family:Calibri\, Arial\, Helvetica\, sans-serif\;font-size:12pt\;color:rgb(0\, 0\, 0)\;">&nbsp\;</div>\n\n<div style="font-family:Calibri\, Arial\, Helvetica\, sans-serif\;font-size:12pt\;color:rgb(0\, 0\, 0)\;"><strong style="color:rgb(32\, 31\, 30)\;font-family:Calibri\, sans-serif\;font-size:14.6667px\;"><span style="font-size:12pt\;"><span style="font-weight:400\;"><span style="font-size:10pt\;"><span style="font-family:times new roman\,times\,serif\;"><span style="color:#262626\;">&quot\;</span></span></span></span><span style="font-weight:400\;"><span style="font-size:10pt\;"><span style="font-family:times new roman\,times\,serif\;"><span style="color:#262626\;">In 2019\, we gave away 1\,000 dresses to young ladies in need. We&#39\;re happy to close Women&#39\;s History Month by offering young high school girls the opportunity to select their prom dresses in-person once again&quot\;\, Tamala Lewis\, Sr Director\, Community Relations &amp\; Foundation\, Dignity Health Sports Park - AEG.</span></span></span></span></span></strong></div>\n\n<div style="font-family:Calibri\, Arial\, Helvetica\, sans-serif\;font-size:12pt\;color:rgb(0\, 0\, 0)\;">&nbsp\;</div>\n\n<div style="font-family:Calibri\, Arial\, Helvetica\, sans-serif\;font-size:12pt\;color:rgb(0\, 0\, 0)\;"><strong style="color:rgb(32\, 31\, 30)\;font-family:Calibri\, sans-serif\;font-size:14.6667px\;"><span style="font-size:12pt\;"><span style="font-weight:400\;"><span style="font-size:14px\;"><span style="color:#262626\;"><span style="color:black\;"><span style="font-family:times new roman\,times\,serif\;"><span style="font-size:10pt\;">The event&rsquo\;s goal is to inspire\, enlighten\, and mentor young ladies to know their value and empower them with confidence and resources to achieve personal success\, as well as providing everlasting memories from their prom night and beyond.&nbsp\;The first 50 young ladies in attendance will receive a family pack of four tickets to the LA Galaxy&rsquo\;s Saturday\, April 23 match against Nashville SC at Dignity Health Sports Park.&nbsp\;</span></span></span>&nbsp\;</span></span></span></span></strong><br />\n<br />\n<br />\n<br />\n<strong style="color:rgb(32\, 31\, 30)\;font-family:Calibri\, sans-serif\;font-size:14.6667px\;"><span style="font-weight:400\;"><span style="color:black\;"><span style="font-family:times new roman\,times\,serif\;"><span style="font-size:10pt\;">All young ladies will be required to show a high school student ID and sign a photo&nbsp\;release&nbsp\;waiver at check-in.</span></span></span>&nbsp\;</span></strong><br />\n<strong style="color:rgb(32\, 31\, 30)\;font-family:Calibri\, sans-serif\;font-size:14.6667px\;"><span style="font-weight:400\;">&nbsp\;&nbsp\;</span></strong></div>\n
LOCATION:American Express Stadium Club Dignity Health Sports Park 18400 Avalon Blvd.\, Suite 200 Carson\, CA 90746
UID:e.2438.5383
SEQUENCE:3
DTSTAMP:20260421T110241Z
URL:https://business.hbchamber.net/events/details/pop-up-prom-dress-giveaway-event-say-yes-to-the-dress-5383
END:VEVENT

END:VCALENDAR
