BEGIN:VCALENDAR
VERSION:2.0
PRODID:-//ChamberMaster//Event Calendar 2.0//EN
METHOD:PUBLISH
X-PUBLISHED-TTL:P3D
REFRESH-INTERVAL:P3D
CALSCALE:GREGORIAN
BEGIN:VEVENT
DTSTART:20250716T020000Z
DTEND:20250716T050000Z
X-MICROSOFT-CDO-ALLDAYEVENT:FALSE
SUMMARY:Planning Commission Meeting
DESCRIPTION:A regular meeting of the Hermosa Beach Planning Commission is scheduled for Tuesday\,  July 15\, 2025 at 7:00 p.m.\n\n\n\nTo review the meeting agenda (to be posted at least 72 hours prior to the meeting)\, go to the Agendas\, Minutes & Videos page of our website and select the appropriate meeting date.
X-ALT-DESC;FMTTYPE=text/html:A regular meeting of the Hermosa Beach Planning Commission is scheduled for Tuesday\,&nbsp\; July 15\, 2025 at 7:00 p.m.<br />\n<br />\nTo review the meeting agenda (to be posted at least 72 hours prior to the meeting)\, go to the <a href="https://www.hermosabeach.gov/our-community/agendas-minutes-video#!/">Agendas\, Minutes &amp\; Videos</a> page of our website and select the appropriate meeting date.
LOCATION:City Hall 1315 Valley Drive Hermosa Beach\, California 90254
UID:e.2438.12488
SEQUENCE:3
DTSTAMP:20260423T035827Z
URL:https://business.hbchamber.net/events/details/planning-commission-meeting-12488
END:VEVENT

END:VCALENDAR
