BEGIN:VCALENDAR
VERSION:2.0
PRODID:-//ChamberMaster//Event Calendar 2.0//EN
METHOD:PUBLISH
X-PUBLISHED-TTL:P3D
REFRESH-INTERVAL:P3D
CALSCALE:GREGORIAN
BEGIN:VEVENT
DTSTART:20250531T170000Z
DTEND:20250531T183000Z
X-MICROSOFT-CDO-ALLDAYEVENT:FALSE
SUMMARY:Piper Preschool Waterworks Playdate!
DESCRIPTION:DIVE INTO FUN! Saturday\, May 31st | 10:00am-11:30am ?Join us for a Waterworks Playdate filled with water-themed fun\, hands-on play\, and joyful discoveries. Little ones will explore the wonders of water through creative activities\, and grown-ups can meet our amazing teachers and see the Piper magic in action. We can't wait to see you!
X-ALT-DESC;FMTTYPE=text/html:DIVE INTO FUN! Saturday\, May 31st | 10:00am-11:30am ?Join us for a Waterworks Playdate filled with water-themed fun\, hands-on play\, and joyful discoveries. Little ones will explore the wonders of water through creative activities\, and grown-ups can meet our amazing teachers and see the Piper magic in action. We can&#39\;t wait to see you!
LOCATION:Piper Preschool 1340 11th Street Manhattan Beach\, CA 90266
UID:e.2438.12247
SEQUENCE:3
DTSTAMP:20260422T224752Z
URL:https://business.hbchamber.net/events/details/piper-preschool-waterworks-playdate-12247
END:VEVENT

END:VCALENDAR
