BEGIN:VCALENDAR
VERSION:2.0
PRODID:-//ChamberMaster//Event Calendar 2.0//EN
METHOD:PUBLISH
X-PUBLISHED-TTL:P3D
REFRESH-INTERVAL:P3D
CALSCALE:GREGORIAN
BEGIN:VEVENT
DTSTART:20241110T190000Z
DTEND:20241111T000000Z
X-MICROSOFT-CDO-ALLDAYEVENT:FALSE
SUMMARY:Peter Zippi Open House\, Benefit\, and Adoption Day
DESCRIPTION:Organization has found homes for 20\,000 cats. Light appetizers\, drinks and music.
X-ALT-DESC;FMTTYPE=text/html:Organization has found homes for 20\,000 cats. Light appetizers\, drinks and music.&nbsp\;
LOCATION:VCA Coast Pet Clinic 1560 Pacific Coast Hwy Hermosa Beach\, CA 90254
UID:e.2438.10803
SEQUENCE:3
DTSTAMP:20260420T221357Z
URL:https://business.hbchamber.net/events/details/peter-zippi-open-house-benefit-and-adoption-day-10803
END:VEVENT

END:VCALENDAR
