BEGIN:VCALENDAR
VERSION:2.0
PRODID:-//ChamberMaster//Event Calendar 2.0//EN
METHOD:PUBLISH
X-PUBLISHED-TTL:P3D
REFRESH-INTERVAL:P3D
CALSCALE:GREGORIAN
BEGIN:VEVENT
DTSTART:20240831T210000Z
DTEND:20240901T000000Z
X-MICROSOFT-CDO-ALLDAYEVENT:FALSE
SUMMARY:Pete Peterson Paddleboard Unveiling
DESCRIPTION:Join us for the unveiling of a historic paddleboard at the Hermosa Beach Museum on Saturday\, August 31! Originally built in the 1930s\, this paddleboard was owned by famed waterman Pete Peterson and donated to the museum by decorated paddleboarder Jim Mollica. Local historian and museum board member Mark Shoemaker will present on the history of the board and hold a Q&A with Jim Mollica. Don't miss this exclusive event! The unveiling will take place from 2pm to 5pm with the presentation beginning at 2:30pm. RSVP preferred\, walk-ins are welcome\; beverages will be available for purchase.
X-ALT-DESC;FMTTYPE=text/html:Join us for the unveiling of a historic paddleboard at the Hermosa Beach Museum on Saturday\, August 31! Originally built in the 1930s\, this paddleboard was owned by famed waterman Pete Peterson and donated to the museum by decorated paddleboarder Jim Mollica. Local historian and museum board member Mark Shoemaker will present on the history of the board and hold a Q&amp\;A with Jim Mollica. Don&rsquo\;t miss this exclusive event! The unveiling will take place from 2pm to 5pm with the presentation beginning at 2:30pm. RSVP preferred\, walk-ins are welcome\; beverages will be available for purchase.
LOCATION:Hermosa Beach Museum 710 Pier Ave Hermosa Beach\, CA 90254
UID:e.2438.10325
SEQUENCE:3
DTSTAMP:20260421T071306Z
URL:https://business.hbchamber.net/events/details/pete-peterson-paddleboard-unveiling-10325
END:VEVENT

END:VCALENDAR
