BEGIN:VCALENDAR
VERSION:2.0
PRODID:-//ChamberMaster//Event Calendar 2.0//EN
METHOD:PUBLISH
X-PUBLISHED-TTL:P3D
REFRESH-INTERVAL:P3D
CALSCALE:GREGORIAN
BEGIN:VEVENT
DTSTART:20220414T000000Z
DTEND:20220414T023000Z
X-MICROSOFT-CDO-ALLDAYEVENT:FALSE
SUMMARY:Pet-Nat vs. Traditional Sparkling Wine Tasting
DESCRIPTION:There's a new kid on the block- natural wines are all the rage! Compare and contrast two "Pet Nat" Sparkling wines with two traditional sparklers. And if you want to know about Pet Nat and other natural wines\, we'll have a few knowledgeable wine peeps on hand to answer questions about this growing trend.
X-ALT-DESC;FMTTYPE=text/html:There&#39\;s a new kid on the block- natural wines are all the rage! Compare and contrast two &quot\;Pet Nat&quot\; Sparkling wines with two traditional sparklers. And if you want to know about Pet Nat and other natural wines\, we&#39\;ll have a few knowledgeable wine peeps on hand to answer questions about this growing trend.
LOCATION:Uncorked. 302 Pier Ave.
UID:e.2438.5407
SEQUENCE:3
DTSTAMP:20260421T091649Z
URL:https://business.hbchamber.net/events/details/pet-nat-vs-traditional-sparkling-wine-tasting-5407
END:VEVENT

END:VCALENDAR
