BEGIN:VCALENDAR
VERSION:2.0
PRODID:-//ChamberMaster//Event Calendar 2.0//EN
METHOD:PUBLISH
X-PUBLISHED-TTL:P3D
REFRESH-INTERVAL:P3D
CALSCALE:GREGORIAN
BEGIN:VEVENT
DTSTART:20241207T023000Z
DTEND:20241207T043000Z
X-MICROSOFT-CDO-ALLDAYEVENT:FALSE
SUMMARY:Perfectly Pink Party
DESCRIPTION:Join us for an enchanting and empowering evening hosted by the National Association of Women Business Owners Central Coast Chapter (NAWBO CC)\, where passion and purpose take center stage.\n\n \n\nOn December 6th\, immerse yourself in an inspiring gathering designed to support breast cancer awareness. Our Annual Holiday special event is in collaboration with the Butterfly Strong Foundation\, in partnership with the 55 Thousand Dress Collection. This gathering celebrates women's strength and resilience\, especially honoring those who have been touched by breast cancer.
X-ALT-DESC;FMTTYPE=text/html:Join us for an enchanting and empowering evening hosted by the National Association of Women Business Owners Central Coast Chapter (NAWBO CC)\, where passion and purpose take center stage.<br />\n&nbsp\;<br />\nOn December 6th\, immerse yourself in an inspiring gathering designed to support breast cancer awareness. Our Annual Holiday special event is in collaboration with the Butterfly Strong Foundation\, in partnership with the 55 Thousand Dress Collection. This gathering celebrates women&#39\;s strength and resilience\, especially honoring those who have been touched by breast cancer.
LOCATION:Madonna Inn 100 Madonna Road San Luis Obispo\, CA 93401
UID:e.2438.11019
SEQUENCE:3
DTSTAMP:20260422T173216Z
URL:https://business.hbchamber.net/events/details/perfectly-pink-party-11019
END:VEVENT

END:VCALENDAR
