BEGIN:VCALENDAR
VERSION:2.0
PRODID:-//ChamberMaster//Event Calendar 2.0//EN
METHOD:PUBLISH
X-PUBLISHED-TTL:P3D
REFRESH-INTERVAL:P3D
CALSCALE:GREGORIAN
BEGIN:VEVENT
DTSTART:20241123T180000Z
DTEND:20241123T220000Z
X-MICROSOFT-CDO-ALLDAYEVENT:FALSE
SUMMARY:Paws and Santa Claus
DESCRIPTION:Santa will park his sleigh on the corner by our Hermosa shop and be available to photobomb a selfie of you and your pooch!
X-ALT-DESC;FMTTYPE=text/html:Santa will park his sleigh on the corner by our Hermosa shop and be available to photobomb a selfie of you and your pooch!&nbsp\;
LOCATION:Uncorked Hermosa 302 Pier Ave Hermosa Beach\, CA
UID:e.2438.11011
SEQUENCE:3
DTSTAMP:20260422T192422Z
URL:https://business.hbchamber.net/events/details/paws-and-santa-claus-11011
END:VEVENT

END:VCALENDAR
