BEGIN:VCALENDAR
VERSION:2.0
PRODID:-//ChamberMaster//Event Calendar 2.0//EN
METHOD:PUBLISH
X-PUBLISHED-TTL:P3D
REFRESH-INTERVAL:P3D
CALSCALE:GREGORIAN
BEGIN:VEVENT
DTSTART:20241123T180000Z
DTEND:20241123T220000Z
X-MICROSOFT-CDO-ALLDAYEVENT:FALSE
SUMMARY:Paws And Santa Claus!
DESCRIPTION:Santa will park his sleigh on the corner by our Hermosa shop and be available to photobomb a selfie of you and your pooch! Suggested donation $20. All proceeds will to go to the Peter Zippi Fund/ Animal Shelter\, Hermosa Beach.
X-ALT-DESC;FMTTYPE=text/html:Santa will park his sleigh on the corner by our Hermosa shop and be available to photobomb a selfie of you and your pooch! Suggested donation $20. All proceeds will to go to the Peter Zippi Fund/ Animal Shelter\, Hermosa Beach.
LOCATION:Uncorked Hermosa Beach. 302 Pier Ave
UID:e.2438.11015
SEQUENCE:3
DTSTAMP:20260422T192705Z
URL:https://business.hbchamber.net/events/details/paws-and-santa-claus-11-23-2024-11015
END:VEVENT

END:VCALENDAR
