BEGIN:VCALENDAR
VERSION:2.0
PRODID:-//ChamberMaster//Event Calendar 2.0//EN
METHOD:PUBLISH
X-PUBLISHED-TTL:P3D
REFRESH-INTERVAL:P3D
CALSCALE:GREGORIAN
BEGIN:VEVENT
DTSTART:20250108T030000Z
DTEND:20250108T060000Z
X-MICROSOFT-CDO-ALLDAYEVENT:FALSE
SUMMARY:Parks\, Recreation and Community Resources Advisory Commission Meeting
DESCRIPTION:A regular meeting of the Hermosa Beach Parks Recreation\, and Community Resources Advisory Commission is scheduled for Tuesday\, January 7\, 2025 at 7 P.M.\n\n\n\nTo review the meeting agenda (to be posted at least 72 hours prior to the meeting)\, go to the Agendas\, Minutes & Videos page of our website and select the appropriate meeting date.
X-ALT-DESC;FMTTYPE=text/html:A regular meeting of the Hermosa Beach Parks Recreation\, and Community Resources Advisory Commission is scheduled for Tuesday\, January 7\, 2025 at 7 P.M.<br />\n<br />\nTo review the meeting agenda (to be posted at least 72 hours prior to the meeting)\, go to the <a href="https://www.hermosabeach.gov/our-community/agendas-minutes-video">Agendas\, Minutes &amp\; Videos</a> page of our website and select the appropriate meeting date.
LOCATION:City Hall 1315 Valley Drive Hermosa Beach\, CA 90254
UID:e.2438.11133
SEQUENCE:3
DTSTAMP:20260420T183653Z
URL:https://business.hbchamber.net/events/details/parks-recreation-and-community-resources-advisory-commission-meeting-11133
END:VEVENT

END:VCALENDAR
