BEGIN:VCALENDAR
VERSION:2.0
PRODID:-//ChamberMaster//Event Calendar 2.0//EN
METHOD:PUBLISH
X-PUBLISHED-TTL:P3D
REFRESH-INTERVAL:P3D
CALSCALE:GREGORIAN
BEGIN:VEVENT
DTSTART:20220305T160000Z
DTEND:20220305T210000Z
X-MICROSOFT-CDO-ALLDAYEVENT:FALSE
SUMMARY:Paper Shredding and Compost Giveaway Event
DESCRIPTION:Athens Services will be hosting another compost giveaway and paper shredding event Saturday\, March 5\, 2022 at the Community Center Parking Lot. The event is for Hermosa Beach residents only. You are asked to bring your own gloves\, shovels and bags for the compost giveaway. Paper will be shredded on site and each participant is limited to three banker box-size boxes each. No hazardous waste will be accepted. More details are to follow in the coming months but the event will be similar to past events.
X-ALT-DESC;FMTTYPE=text/html:<div style="color: rgb(34\, 34\, 34)\; font-family: Arial\, Helvetica\, sans-serif\; font-size: small\; padding: 10px\; border: 1px solid rgb(204\, 204\, 204)\; border-radius: 4px\;">Athens Services will be hosting another compost giveaway and paper shredding event Saturday\, March 5\, 2022 at the Community Center Parking Lot. The event is for Hermosa Beach residents only. You are asked to bring your own gloves\, shovels and bags for the compost giveaway. Paper will be shredded on site and each participant is limited to three banker box-size boxes each. No hazardous waste will be accepted.&nbsp\;More details are to follow in the coming months but the event will be similar to past events.</div>\n\n<div>&nbsp\;</div>\n\n<div style="color: rgb(34\, 34\, 34)\; font-family: Arial\, Helvetica\, sans-serif\; font-size: small\; background-color: rgb(240\, 240\, 240)\; text-align: center\;">&nbsp\;</div>\n
LOCATION:Community Center - Parking Lot 710 Pier Avenue Hermosa Beach\, California 90254
UID:e.2438.4832
SEQUENCE:3
DTSTAMP:20260421T105437Z
URL:https://business.hbchamber.net/events/details/paper-shredding-and-compost-giveaway-event-4832
END:VEVENT

END:VCALENDAR
