BEGIN:VCALENDAR
VERSION:2.0
PRODID:-//ChamberMaster//Event Calendar 2.0//EN
METHOD:PUBLISH
X-PUBLISHED-TTL:P3D
REFRESH-INTERVAL:P3D
CALSCALE:GREGORIAN
BEGIN:VEVENT
DTSTART:20250329T000000Z
DTEND:20250329T030000Z
X-MICROSOFT-CDO-ALLDAYEVENT:FALSE
SUMMARY:Paint Your Pet!
DESCRIPTION:Join us for a delightful and creative event at our "Paint Your Pet" class! Under the guidance of our experienced instructor you'll learn step-by-step how to create a stunning portrait of your beloved pet using acrylic paint on a 12"x12" canvas. This fun and interactive class is perfect for pet lovers and art enthusiasts of all skill levels.
X-ALT-DESC;FMTTYPE=text/html:Join us for a delightful and creative event at our &quot\;Paint Your Pet&quot\; class! Under the guidance of our experienced instructor you&#39\;ll learn step-by-step how to create a stunning portrait of your beloved pet using acrylic paint on a 12&quot\;x12&quot\; canvas. This fun and interactive class is perfect for pet lovers and art enthusiasts of all skill levels.
LOCATION:Gallery of Hermosa 138 Pier Ave Hermosa Beach\, CA 90254
UID:e.2438.11462
SEQUENCE:3
DTSTAMP:20260422T192243Z
URL:https://business.hbchamber.net/events/details/paint-your-pet-11462
END:VEVENT

END:VCALENDAR
