BEGIN:VCALENDAR
VERSION:2.0
PRODID:-//ChamberMaster//Event Calendar 2.0//EN
METHOD:PUBLISH
X-PUBLISHED-TTL:P3D
REFRESH-INTERVAL:P3D
CALSCALE:GREGORIAN
BEGIN:VEVENT
DTSTART:20250503T170000Z
DTEND:20250503T180000Z
X-MICROSOFT-CDO-ALLDAYEVENT:FALSE
SUMMARY:Paint & Slice
DESCRIPTION:Wood Slice Art Workshop   A Mother's Day Celebration!\n\nWe're going to have the best time getting creative! In this fun-filled workshop\, kids will paint beautiful wood slices with colorful designs of flowers\, hearts\, and heartfelt messages just in time to celebrate Mother's Day or to share love with someone special.\n\n\n\nChildren will choose from three different design options\, thoughtfully created to suit different ages and personal styles\, so everyone can find their favorite!\n\nBut that's not all! We'll also learn how to make simple\, cheerful tassels using yarn\, strings\, and beads\, and attach them to the wood slices to create the cutest hanging decorations.\n\nAll materials are provided by Xana\, and at the end\, each child will proudly take home their one-of-a-kind artwork.\n\nThis workshop is open to children ages 4 12\, siblings get a special discount\, and it promises an unforgettable experience where creativity\, joy\, and love are at the heart of it all.\n\nCome join the fun and make something truly special!
X-ALT-DESC;FMTTYPE=text/html:<p style="text-align:initial"><strong>Wood Slice Art Workshop &ndash\; A Mother&rsquo\;s Day Celebration!</strong></p>\n\n<p style="text-align:initial">We&rsquo\;re going to have the <em>best</em>&nbsp\;time getting creative! In this fun-filled workshop\, kids will paint beautiful wood slices with <strong>colorful designs of flowers\, hearts\, and heartfelt messages</strong>&mdash\;just in time to celebrate <strong>Mother&rsquo\;s Day</strong>&nbsp\;or to share love with someone special.<br />\n<br />\nChildren will choose from <strong>three different design options</strong>\, thoughtfully created to suit different ages and personal styles\, so everyone can find their favorite!</p>\n\n<p style="text-align:initial">But that&rsquo\;s not all! We&#39\;ll also learn how to make <strong>simple\, cheerful tassels</strong>&nbsp\;using yarn\, strings\, and beads\, and attach them to the wood slices to create the <em>cutest</em>&nbsp\;hanging decorations.</p>\n\n<p style="text-align:initial"><strong>All materials are provided by Xana</strong>\, and at the end\, each child will proudly take home their one-of-a-kind artwork.</p>\n\n<p style="text-align:initial">This workshop is open to children <strong>ages 4&ndash\;12</strong>\, siblings get a special discount\, and it promises an unforgettable experience where <strong>creativity\, joy\, and love</strong>&nbsp\;are at the heart of it all.</p>\n\n<p style="text-align:initial"><strong>Come join the fun and make something truly special!</strong></p>\n
LOCATION:Denton & Denton Group\, 3516 Highland Ave\, Manhattan Beach\, CA 90266\, US
UID:e.2438.11599
SEQUENCE:3
DTSTAMP:20260422T223953Z
URL:https://business.hbchamber.net/events/details/paint-slice-11599
END:VEVENT

END:VCALENDAR
