BEGIN:VCALENDAR
VERSION:2.0
PRODID:-//ChamberMaster//Event Calendar 2.0//EN
METHOD:PUBLISH
X-PUBLISHED-TTL:P3D
REFRESH-INTERVAL:P3D
CALSCALE:GREGORIAN
BEGIN:VEVENT
DTSTART:20241113T030000Z
DTEND:20241113T050000Z
X-MICROSOFT-CDO-ALLDAYEVENT:FALSE
SUMMARY:Paint & Sip Night with Titty City Design
DESCRIPTION:Grab Your Friends and Paint Your Very Own Titty Pot\n\nTuesday\, October 12th from 7 - 9 pm\n\nJoin us for our first-ever "Paint & Sip Night!" Jessy\, creator of Titty City Design\, will be hosting this girls night out at Patrick Molloy's in Hermosa Beach where she will provide supplies and instruction to paint a Titty Pot of your own!\n\nEvent Details:\n\nPaint & Sip Night with Titty City Design\n\nTuesday\, November 12\, 2024\n\n7:00 to 9:00 PM\n\nPatrick Molloy's (map)\n\n50 Pier Ave on Pier Plaza\n\nHermosa Beach\, CA 90254\n\nGet your Tickets Now\n\n$50 per person (plus $2.50 transaction fee) \n\nTickets for the event are limited\, so don't wait! \n\nYour ticket price includes all supplies needed plus a drink at Patrick Molloy's! \n\nTickets to the event are non-refundable and non-transferable unless there is a cancellation by the venue or host.
X-ALT-DESC;FMTTYPE=text/html:<h2>Grab Your Friends and Paint Your Very Own Titty Pot</h2>\n\n<h3><strong>Tuesday\,&nbsp\;October 12th from 7 - 9 pm</strong></h3>\n\n<p>Join us for our first-ever &quot\;Paint &amp\; Sip Night!&quot\;&nbsp\;Jessy\,&nbsp\;creator of Titty City Design\, will be hosting this girls night out at Patrick Molloy&#39\;s in Hermosa Beach where she will provide supplies and instruction to paint a Titty Pot of your own!</p>\n\n<h3><strong>Event Details:</strong></h3>\n\n<p><strong>Paint &amp\; Sip Night with Titty City Design</strong><br />\nTuesday\,&nbsp\;November 12\, 2024<br />\n7:00&nbsp\;to 9:00 PM</p>\n\n<p><strong>Patrick Molloy&#39\;s&nbsp\;<a class="eventitem-meta-address-maplink" href="http://maps.google.com/?q=12746%20West%20Jefferson%20Boulevard%20Los%20Angeles\,%20CA\,%2090094%20United%20States" rel="null noopener" style="box-sizing: border-box\; color: var(--color-text)\; text-decoration-line: none\; background-color: transparent\; touch-action: manipulation\; border-bottom: 1px solid currentcolor\; padding-bottom: 1px\;" target="_blank">(</a><a href="https://maps.app.goo.gl/S32zBJJ2FkExjpwE6" style="box-sizing: border-box\; color: var(--color-text)\; text-decoration-line: none\; background-color: transparent\; touch-action: manipulation\; border-bottom: 1px solid currentcolor\; padding-bottom: 1px\;" title="Patrick Molloy's Hermosa Beach">map</a><a class="eventitem-meta-address-maplink" href="http://maps.google.com/?q=12746%20West%20Jefferson%20Boulevard%20Los%20Angeles\,%20CA\,%2090094%20United%20States" rel="null noopener" style="box-sizing: border-box\; color: var(--color-text)\; text-decoration-line: none\; background-color: transparent\; touch-action: manipulation\; border-bottom: 1px solid currentcolor\; padding-bottom: 1px\;" target="_blank">)</a></strong><br />\n50 Pier Ave&nbsp\;<em>on Pier Plaza</em><br />\nHermosa Beach\, CA&nbsp\;90254</p>\n\n<h3>Get your Tickets Now</h3>\n\n<p><a href="https://www.paypal.com/ncp/payment/XYYLYASFP9R96" rel="null noopener" style="box-sizing: border-box\; color: var(--color-text)\; text-decoration-line: none\; background-color: transparent\; touch-action: manipulation\; border-bottom: 1px solid currentcolor\; padding-bottom: 1px\;" target="_blank" title="Pay Now">$50 per person&nbsp\;</a>(plus $2.50 transaction fee)&nbsp\;</p>\n\n<p>Tickets for the event are limited\, so don&#39\;t wait!&nbsp\;</p>\n\n<p>Your ticket price&nbsp\;includes all supplies needed plus&nbsp\;a drink at Patrick Molloy&#39\;s!&nbsp\;</p>\n\n<p><em>Tickets to the event are non-refundable and non-transferable unless there is a cancellation by the venue or host.</em></p>\n
LOCATION:Patrick Molloy's (map) 50 Pier Ave on Pier Plaza Hermosa Beach\, CA 90254
UID:e.2438.10664
SEQUENCE:3
DTSTAMP:20260422T192444Z
URL:https://business.hbchamber.net/events/details/paint-sip-night-with-titty-city-design-10664
END:VEVENT

END:VCALENDAR
