BEGIN:VCALENDAR
VERSION:2.0
PRODID:-//ChamberMaster//Event Calendar 2.0//EN
METHOD:PUBLISH
X-PUBLISHED-TTL:P3D
REFRESH-INTERVAL:P3D
CALSCALE:GREGORIAN
BEGIN:VEVENT
DTSTART:20250510T170000Z
DTEND:20250510T180000Z
X-MICROSOFT-CDO-ALLDAYEVENT:FALSE
SUMMARY:PAINT CLASS
DESCRIPTION:PAINT CLASS\n?? Wood Slice Art Workshop   A Mother's Day Celebration! ??\n\nGet ready for a joyful and creative experience! In this fun-filled workshop\, kids will decorate beautiful wood slices with colorful designs flowers\, hearts\, and heartfelt messages just in time for Mother's Day or to share love with someone special.\n\n?? Children can choose from three unique design options\, thoughtfully tailored for different ages and styles\, so everyone finds something they love.\n\nBut that's not all! We'll also craft cheerful tassels using yarn\, string\, and beads\, then attach them to the wood slices to create the cutest hanging decorations.\n\n? All materials are provided by Xana\, and at the end of the session\, each child will proudly take home their one-of-a-kind masterpiece.\n\nThis workshop is open to children ages 4 and up\, with a special discount for siblings. Two session times are available\, so you can pick what works best for your schedule. To make it even more special\, mommy or daddy can join for free\, paint the reverse side of the wood slice\, and share in the creative fun!\n\nIt's sure to be an unforgettable experience\, filled with creativity\, joy\, and love.\n\n?? Come join the fun and make something truly special!
X-ALT-DESC;FMTTYPE=text/html:<br />\nPAINT CLASS\n<p style="text-align:initial">?? <strong>Wood Slice Art Workshop &ndash\; A Mother&rsquo\;s Day Celebration!</strong>&nbsp\;??</p>\n\n<p style="text-align:initial">Get ready for a joyful and creative experience! In this fun-filled workshop\, kids will decorate beautiful wood slices with colorful designs&mdash\;flowers\, hearts\, and heartfelt messages&mdash\;just in time for Mother&rsquo\;s Day or to share love with someone special.</p>\n\n<p style="text-align:initial">?? Children can choose from three unique design options\, thoughtfully tailored for different ages and styles\, so everyone finds something they love.</p>\n\n<p style="text-align:initial">But that&rsquo\;s not all! We&rsquo\;ll also craft cheerful tassels using yarn\, string\, and beads\, then attach them to the wood slices to create the cutest hanging decorations.</p>\n\n<p style="text-align:initial">? <strong>All materials are provided by Xana</strong>\, and at the end of the session\, each child will proudly take home their one-of-a-kind masterpiece.</p>\n\n<p style="text-align:initial">This workshop is open to children ages <strong>4 and up</strong>\, with a special discount for siblings. Two session times are available\, so you can pick what works best for your schedule. To make it even more special\, <strong>mommy or daddy can join for free</strong>\, paint the reverse side of the wood slice\, and share in the creative fun!</p>\n\n<p style="text-align:initial">It&rsquo\;s sure to be an unforgettable experience\, filled with creativity\, joy\, and love.</p>\n\n<p style="text-align:initial">?? <strong>Come join the fun and make something truly special!</strong></p>\n
LOCATION:Denton & Denton Group 3516 Highland Ave\, Manhattan Beach\, CA 90266\, USA
UID:e.2438.12235
SEQUENCE:3
DTSTAMP:20260422T223836Z
URL:https://business.hbchamber.net/events/details/paint-class-12235
END:VEVENT

END:VCALENDAR
