BEGIN:VCALENDAR
VERSION:2.0
PRODID:-//ChamberMaster//Event Calendar 2.0//EN
METHOD:PUBLISH
X-PUBLISHED-TTL:P3D
REFRESH-INTERVAL:P3D
CALSCALE:GREGORIAN
BEGIN:VEVENT
DTSTART:20250510T170000Z
DTEND:20250510T190000Z
X-MICROSOFT-CDO-ALLDAYEVENT:FALSE
SUMMARY:Paddle Out | Celebrating Braun Levi's Life
DESCRIPTION:Join the community for a paddle out on Saturday\, May 10th at 10:00 a.m. at 1st Street in Manhattan Beach (Neptune Avenue\, Hermosa Beach) to honor the life of Braun Levi who was tragically killed this past weekend on the Pacific Coast Highway. He was a senior at Loyola but moved to Hermosa Beach in January 2025. He was a material part of our community and beloved by so many.
X-ALT-DESC;FMTTYPE=text/html:Join the community for a paddle out on <strong>Saturday\, May 10th at 10:00 a.m.</strong> at 1st Street in Manhattan Beach (Neptune Avenue\, Hermosa Beach) to honor the life of Braun Levi who was tragically killed this past weekend on the Pacific Coast Highway. He was a senior at Loyola but moved to Hermosa Beach in January 2025. He was a material part of our community and beloved by so many.&nbsp\;
LOCATION:1st Street Manhattan Beach\, CA
UID:e.2438.12237
SEQUENCE:3
DTSTAMP:20260422T224700Z
URL:https://business.hbchamber.net/events/details/paddle-out-celebrating-braun-levi-s-life-12237
END:VEVENT

END:VCALENDAR
