BEGIN:VCALENDAR
VERSION:2.0
PRODID:-//ChamberMaster//Event Calendar 2.0//EN
METHOD:PUBLISH
X-PUBLISHED-TTL:P3D
REFRESH-INTERVAL:P3D
CALSCALE:GREGORIAN
BEGIN:VEVENT
DTSTART:20241116T020000Z
DTEND:20241116T050000Z
X-MICROSOFT-CDO-ALLDAYEVENT:FALSE
SUMMARY:Opening Reception - No Boundaries: The Life and Work of Warren Miller
DESCRIPTION:Join us for the opening reception of a new exhibit at the Museum\, No Boundaries: The Life and Work of Warren Miller. \n\n\n\nThis exhibit will feature photographs\, art\, mementos and stories from the life of Warren Miller\, famed ski film maker who started his production company right here in the heart of Hermosa. His legacy lives on in every turn carved in the snow\, every jump off a cliff\, and every laugh shared at the ski lodge\, reminding us all of the joy\, the challenge\, and the community that skiing and snowboarding create. His films were more than just entertainment they were an invitation to explore\, to push boundaries\, and to embrace the freedom of the slopes.
X-ALT-DESC;FMTTYPE=text/html:Join us for the opening reception of a new exhibit at the Museum\, <em>No Boundaries: The Life and Work of Warren Miller</em>.&#8203\;<br />\n<br />\nThis exhibit will feature photographs\, art\, mementos and stories from the life of Warren Miller\, famed ski film maker who started his production company right here in the heart of Hermosa. His legacy lives on in every turn carved in the snow\, every jump off a cliff\, and every laugh shared at the ski lodge\, reminding us all of the joy\, the challenge\, and the community that skiing and snowboarding create. His films were more than just entertainment&mdash\;they were an invitation to explore\, to push boundaries\, and to embrace the freedom of the slopes.
LOCATION:Hermosa Beach Museum 710 Pier Ave Hermosa Beach\, CA 90254
UID:e.2438.10798
SEQUENCE:3
DTSTAMP:20260422T192846Z
URL:https://business.hbchamber.net/events/details/opening-reception-no-boundaries-the-life-and-work-of-warren-miller-10798
END:VEVENT

END:VCALENDAR
