BEGIN:VCALENDAR
VERSION:2.0
PRODID:-//ChamberMaster//Event Calendar 2.0//EN
METHOD:PUBLISH
X-PUBLISHED-TTL:P3D
REFRESH-INTERVAL:P3D
CALSCALE:GREGORIAN
BEGIN:VEVENT
DTSTART:20250118T010000Z
DTEND:20250118T040000Z
X-MICROSOFT-CDO-ALLDAYEVENT:FALSE
SUMMARY:Opening Reception! Gallery of Hermosa's "New Year Show" art exhibit
DESCRIPTION:Join us at the Opening Reception for Gallery of Hermosa's "New Year Show" which features a range of original paintings and other artwork from local Southern California artists!
X-ALT-DESC;FMTTYPE=text/html:Join us at the Opening Reception for Gallery of Hermosa&#39\;s &quot\;New Year Show&quot\; which features a range of original paintings and other artwork from local Southern California artists!
LOCATION:Gallery of Hermosa 138 Pier Ave. Hermosa Beach\, CA 90254
UID:e.2438.11101
SEQUENCE:3
DTSTAMP:20260420T183747Z
URL:https://business.hbchamber.net/events/details/opening-reception-gallery-of-hermosa-s-new-year-show-art-exhibit-11101
END:VEVENT

END:VCALENDAR
