BEGIN:VCALENDAR
VERSION:2.0
PRODID:-//ChamberMaster//Event Calendar 2.0//EN
METHOD:PUBLISH
X-PUBLISHED-TTL:P3D
REFRESH-INTERVAL:P3D
CALSCALE:GREGORIAN
BEGIN:VEVENT
DTSTART:20250125T180000Z
DTEND:20250125T190000Z
X-MICROSOFT-CDO-ALLDAYEVENT:FALSE
SUMMARY:Online SoulScribe Meditation Practice
DESCRIPTION:Connect to your inner wisdom and spiritual guidance in this guided meditation practice.
X-ALT-DESC;FMTTYPE=text/html:Connect to your inner wisdom and spiritual guidance in this guided meditation practice.
LOCATION:VIRTUAL. Via Zoom.
UID:e.2438.11113
SEQUENCE:3
DTSTAMP:20260422T141921Z
URL:https://business.hbchamber.net/events/details/online-soulscribe-meditation-practice-11113
END:VEVENT

END:VCALENDAR
