BEGIN:VCALENDAR
VERSION:2.0
PRODID:-//ChamberMaster//Event Calendar 2.0//EN
METHOD:PUBLISH
X-PUBLISHED-TTL:P3D
REFRESH-INTERVAL:P3D
CALSCALE:GREGORIAN
BEGIN:VEVENT
DTSTART:20250109T010000Z
DTEND:20250109T030000Z
X-MICROSOFT-CDO-ALLDAYEVENT:FALSE
SUMMARY:Online Reflections with Amaloa – Manifesting Your Best
DESCRIPTION:Bring your journal and an open heart as we explore ways to manifest your highest potential from the comfort of your home.
X-ALT-DESC;FMTTYPE=text/html:Bring your journal and an open heart as we explore ways to manifest your highest potential from the comfort of your home.
LOCATION:VIRTUAL. Via Zoom.
UID:e.2438.11110
SEQUENCE:3
DTSTAMP:20260420T200433Z
URL:https://business.hbchamber.net/events/details/online-reflections-with-amaloa-manifesting-your-best-11110
END:VEVENT

END:VCALENDAR
