BEGIN:VCALENDAR
VERSION:2.0
PRODID:-//ChamberMaster//Event Calendar 2.0//EN
METHOD:PUBLISH
X-PUBLISHED-TTL:P3D
REFRESH-INTERVAL:P3D
CALSCALE:GREGORIAN
BEGIN:VEVENT
DTSTART:20220326T190000Z
DTEND:20220326T190000Z
X-MICROSOFT-CDO-ALLDAYEVENT:FALSE
SUMMARY:OakBerry Acai Bowls Grand Opening!
DESCRIPTION:Oakberry Acai Bowls Grand Opening!!! On Saturday\, we will be offering free bowls for the first 100 customers that are there between 12-3pm. We will also have a Brazilian band playing! We can't wait to see you all there! We are opening Wednesday\, March 23\, 2022\, 9am-8pm!
X-ALT-DESC;FMTTYPE=text/html:Oakberry Acai Bowls Grand Opening!!! On&nbsp\;<span style="color: rgb(38\, 38\, 38)\; font-family: -apple-system\, &quot\;system-ui&quot\;\, &quot\;Segoe UI&quot\;\, Roboto\, Helvetica\, Arial\, sans-serif\; font-size: 14px\;">Saturday\, we will be offering free bowls for the first 100 customers that are there between 12-3pm. We will also have a Brazilian band playing! We can&#39\;t wait to see you all there! We are opening Wednesday\, March 23\, 2022\, 9am-8pm!</span>
LOCATION:Oak Berry USA 25 Pier Ave. Hermosa Beach\, CA 90254
UID:e.2438.5378
SEQUENCE:3
DTSTAMP:20260421T105628Z
URL:https://business.hbchamber.net/events/details/oakberry-acai-bowls-grand-opening-5378
END:VEVENT

END:VCALENDAR
