BEGIN:VCALENDAR
VERSION:2.0
PRODID:-//ChamberMaster//Event Calendar 2.0//EN
METHOD:PUBLISH
X-PUBLISHED-TTL:P3D
REFRESH-INTERVAL:P3D
CALSCALE:GREGORIAN
BEGIN:VEVENT
DTSTART;VALUE=DATE:20241230
DTEND;VALUE=DATE:20250104
TRANSP:TRANSPARENT
X-MICROSOFT-CDO-ALLDAYEVENT:TRUE
SUMMARY:NO SCHOOL -- Winter Break -- Hermosa View\, Vista\, and Valley Schools
DESCRIPTION:NO SCHOOL -- Winter Break (Local Release & Legal Holiday) -- Hermosa View\, Vista\, and Valley Schools
X-ALT-DESC;FMTTYPE=text/html:NO SCHOOL -- Winter Break (Local Release &amp\; Legal Holiday) -- Hermosa View\, Vista\, and Valley Schools
LOCATION:Hermosa View School 1800 Prospect Ave\, Hermosa Beach\, CA 90254 Hermosa Vista School 417 25th St\, Hermosa Beach\, CA 90254 Hermosa Valley School 1645 Valley Dr\, Hermosa Beach\, CA 90254
UID:e.2438.9657
SEQUENCE:3
DTSTAMP:20260420T182521Z
URL:https://business.hbchamber.net/events/details/no-school-winter-break-hermosa-view-vista-and-valley-schools-9657
END:VEVENT

END:VCALENDAR
