BEGIN:VCALENDAR
VERSION:2.0
PRODID:-//ChamberMaster//Event Calendar 2.0//EN
METHOD:PUBLISH
X-PUBLISHED-TTL:P3D
REFRESH-INTERVAL:P3D
CALSCALE:GREGORIAN
BEGIN:VEVENT
DTSTART;VALUE=DATE:20241125
DTEND;VALUE=DATE:20241130
TRANSP:TRANSPARENT
X-MICROSOFT-CDO-ALLDAYEVENT:TRUE
SUMMARY:NO SCHOOL -- Thanksgiving Break -- Hermosa View\, Vista\, and Valley Schools
DESCRIPTION:NO SCHOOL -- Thanksgiving Break (Local Release & Legal Holiday) -- Hermosa View\, Vista\, and Valley Schools
X-ALT-DESC;FMTTYPE=text/html:NO SCHOOL -- Thanksgiving Break (Local Release &amp\; Legal Holiday) -- Hermosa View\, Vista\, and Valley Schools
LOCATION:Hermosa View School 1800 Prospect Ave\, Hermosa Beach\, CA 90254 Hermosa Vista School 417 25th St\, Hermosa Beach\, CA 90254 Hermosa Valley School 1645 Valley Dr\, Hermosa Beach\, CA 90254
UID:e.2438.9652
SEQUENCE:3
DTSTAMP:20260422T192906Z
URL:https://business.hbchamber.net/events/details/no-school-thanksgiving-break-hermosa-view-vista-and-valley-schools-9652
END:VEVENT

END:VCALENDAR
