BEGIN:VCALENDAR
VERSION:2.0
PRODID:-//ChamberMaster//Event Calendar 2.0//EN
METHOD:PUBLISH
X-PUBLISHED-TTL:P3D
REFRESH-INTERVAL:P3D
CALSCALE:GREGORIAN
BEGIN:VEVENT
DTSTART:20241215T170000Z
DTEND:20241216T020000Z
X-MICROSOFT-CDO-ALLDAYEVENT:FALSE
SUMMARY:Next Adventure Bikes & E-Bikes One Year Anniversary Celebration
DESCRIPTION:Join us to celebrate Next Adventure Bikes & E-Bike's ONE YEAR ANNIVERSARY! Celebrate with food\, drinks\, and deals on bikes and e-bikes!
X-ALT-DESC;FMTTYPE=text/html:Join us to celebrate Next Adventure Bikes &amp\; E-Bike&#39\;s ONE YEAR ANNIVERSARY! Celebrate with food\, drinks\, and deals on bikes and e-bikes!
LOCATION:Next Adventure Bikes & E-Bikes 1332 Hermosa Ave\, Suite 5 Hermosa Beach\, CA 90254
UID:e.2438.11012
SEQUENCE:3
DTSTAMP:20260422T173216Z
URL:https://business.hbchamber.net/events/details/next-adventure-bikes-e-bikes-one-year-anniversary-celebration-11012
END:VEVENT

END:VCALENDAR
