BEGIN:VCALENDAR
VERSION:2.0
PRODID:-//ChamberMaster//Event Calendar 2.0//EN
METHOD:PUBLISH
X-PUBLISHED-TTL:P3D
REFRESH-INTERVAL:P3D
CALSCALE:GREGORIAN
BEGIN:VEVENT
DTSTART:20240213T200000Z
DTEND:20240213T210000Z
X-MICROSOFT-CDO-ALLDAYEVENT:FALSE
SUMMARY:New Chamber Member Orientation (RESCHEDULED)
DESCRIPTION:This orientation has been rescheduled. Please reach out to admin@hbchamber.net for more information.\n\n\n\n**MEMBERS ONLY** If you are new Chamber member (or a member curious about your benefits)\, join us for our bi-monthly New Member Orientation where you'll learn about your membership benefits\, the Chamber\, and ways to get involved!
X-ALT-DESC;FMTTYPE=text/html:<strong>This orientation has been rescheduled. Please reach out to admin@hbchamber.net for more information.<br />\n<br />\n**MEMBERS ONLY**</strong> If you are new Chamber member (or a member curious about your benefits)\, join us for our bi-monthly New Member Orientation where you&#39\;ll learn about your membership benefits\, the Chamber\, and ways to get involved!
LOCATION:**CHAMBER MEMBRS ONLY** VIRTUAL Zoom link: https://us06web.zoom.us/j/82644563982?pwd=xRRjQY9LeZb5CaDo27dIC9QnTUIbzB.1 Meeting ID: 826 4456 3982 Passcode: 525826
UID:e.2438.9235
SEQUENCE:3
DTSTAMP:20260419T131716Z
URL:https://business.hbchamber.net/events/details/new-chamber-member-orientation-rescheduled-9235
END:VEVENT

END:VCALENDAR
