BEGIN:VCALENDAR
VERSION:2.0
PRODID:-//ChamberMaster//Event Calendar 2.0//EN
METHOD:PUBLISH
X-PUBLISHED-TTL:P3D
REFRESH-INTERVAL:P3D
CALSCALE:GREGORIAN
BEGIN:VEVENT
DTSTART;VALUE=DATE:20220308
DTEND;VALUE=DATE:20220309
TRANSP:TRANSPARENT
X-MICROSOFT-CDO-ALLDAYEVENT:TRUE
SUMMARY:New Chamber Member Orienation
DESCRIPTION:**CHAMBER MEMBERS ONLY**\n\n\n\nOld and new Chamber members are welcome to join us for our New Member Orientation to receive detailed information regarding membership benefits.
X-ALT-DESC;FMTTYPE=text/html:**CHAMBER MEMBERS ONLY**<br />\n<br />\nOld and new Chamber members are welcome to join us for our New Member Orientation to receive detailed information regarding membership benefits.
LOCATION:**CHAMBER MEMBRS ONLY** VIRTUAL https://us02web.zoom.us/j/83299478850 Meeting ID: 832 9947 8850
UID:e.2438.5084
SEQUENCE:3
DTSTAMP:20260421T105507Z
URL:https://business.hbchamber.net/events/details/new-chamber-member-orienation-5084
END:VEVENT

END:VCALENDAR
