BEGIN:VCALENDAR
VERSION:2.0
PRODID:-//ChamberMaster//Event Calendar 2.0//EN
METHOD:PUBLISH
X-PUBLISHED-TTL:P3D
REFRESH-INTERVAL:P3D
CALSCALE:GREGORIAN
BEGIN:VEVENT
DTSTART;VALUE=DATE:20250614
DTEND;VALUE=DATE:20250615
TRANSP:TRANSPARENT
X-MICROSOFT-CDO-ALLDAYEVENT:TRUE
SUMMARY:National Rosé Day
DESCRIPTION:Join us all weekend as we celebrate the wine that welcomes summer! We will offer a flight of exceptional ros s from around the world\, in addition to our weekly tasting list of red and white wines. Check back in to see what wines we'll be pouring.
X-ALT-DESC;FMTTYPE=text/html:Join us all weekend as we celebrate the wine that welcomes summer! We will offer a flight of exceptional ros&eacute\;s from around the world\, in addition to our weekly tasting list of red and white wines. Check back in to see what wines we&#39\;ll be pouring.
LOCATION:Uncorked Hermosa 302 Pier Ave Hermosa Beach\, CA
UID:e.2438.12419
SEQUENCE:3
DTSTAMP:20260423T005235Z
URL:https://business.hbchamber.net/events/details/national-ros&#233;-day-12419
END:VEVENT

END:VCALENDAR
