BEGIN:VCALENDAR
VERSION:2.0
PRODID:-//ChamberMaster//Event Calendar 2.0//EN
METHOD:PUBLISH
X-PUBLISHED-TTL:P3D
REFRESH-INTERVAL:P3D
CALSCALE:GREGORIAN
BEGIN:VEVENT
DTSTART:20220312T160000Z
DTEND:20220312T220000Z
X-MICROSOFT-CDO-ALLDAYEVENT:FALSE
SUMMARY:NASA Astronaut to Speak at El Camino College’s Onizuka Space Science Day 2022
DESCRIPTION:Local students in grades 5-12 will gather at El Camino College on Saturday\, March 12\, for the 2022 Onizuka Space Science Day.\n\n \n\nThis year's featured speaker will be NASA astronaut Michael R. Barratt\, M.D.\, who participated in multiple spaceflights from 2009-2011. His final mission on the space shuttle\, Discovery\, logged over 5.3 million miles in 307 hours\, and encompassed 202 orbits around the Earth. Dr. Barratt will be available for media interviews after his presentation.\n\n \n\nThe event will also feature classroom presentations\, hands-on experiments\, and demonstrations led by El Camino College professors and students as well as guests from Jet Propulsion Laboratory (JPL)\, The United States Space Force\, and The Columbia Memorial Space Center.\n\n \n\nThe Ellison S. Onizuka Memorial Committee\, El Camino College\, and American Honda Motor Co.\, Inc. sponsor this free\, hands-on event. This year marks the 36th anniversary of the Space Shuttle Challenger accident that took the lives of the seven crew members\, including Ellison Onizuka. This annual event honors Onizuka's memory and is dedicated to his dream of inspiring the youth of America to strive for and achieve their career goals.
X-ALT-DESC;FMTTYPE=text/html:<span style="font-family:times new roman\,serif\;"><span style="font-size:12pt\;">Local students in grades 5-12 will gather at El Camino College on Saturday\, March 12\, for the&nbsp\;</span></span><a data-saferedirecturl="https://www.google.com/url?q=https://linkprotect.cudasvc.com/url?a%3Dhttps%253a%252f%252fwww.elcamino.edu%252facademics%252fdivisions%252fnatural-sciences%252fonizuka-space-day%252findex.aspx%26c%3DE\,1\,GGX5g1CG-rDnCIcxmv1YO6Jo_iIOx_56uC6n2MFn8GP8AdAbzQMpwESuBFXOSD3NiCwPaciP88LNlLffLKVcls6TTHxRmeeSF5Sq_ggucUGxnazwIYOWyPBLGg\,\,%26typo%3D1&amp\;source=gmail&amp\;ust=1646194628496000&amp\;usg=AOvVaw2kNGNoazlM5BI-PENSLLqk" href="https://linkprotect.cudasvc.com/url?a=https%3a%2f%2fwww.elcamino.edu%2facademics%2fdivisions%2fnatural-sciences%2fonizuka-space-day%2findex.aspx&amp\;c=E\,1\,GGX5g1CG-rDnCIcxmv1YO6Jo_iIOx_56uC6n2MFn8GP8AdAbzQMpwESuBFXOSD3NiCwPaciP88LNlLffLKVcls6TTHxRmeeSF5Sq_ggucUGxnazwIYOWyPBLGg\,\,&amp\;typo=1" style="color:rgb(17\, 85\, 204)\;" target="_blank"><span style="font-family:times new roman\,serif\;"><span style="font-size:12pt\;">2022 Onizuka Space Science Day</span></span></a><span style="color:black\;"><span style="font-family:times new roman\,serif\;"><span style="font-size:12pt\;">.</span></span></span><br />\n&nbsp\;<br />\n<span style="color:black\;"><span style="font-family:times new roman\,serif\;"><span style="font-size:12pt\;">This year&rsquo\;s featured speaker will be NASA astronaut&nbsp\;</span></span></span><a data-saferedirecturl="https://www.google.com/url?q=https://www.nasa.gov/astronauts/biographies/michael-reed-barratt/biography&amp\;source=gmail&amp\;ust=1646194628496000&amp\;usg=AOvVaw030SWTXQsh_QeoDznuhqdZ" href="https://www.nasa.gov/astronauts/biographies/michael-reed-barratt/biography" style="color:rgb(17\, 85\, 204)\;" target="_blank"><span style="font-family:times new roman\,serif\;"><span style="font-size:12pt\;">Michael R. Barratt\, M.D</span></span></a><span style="text-decoration-line:underline\;"><span style="color:#0563c1\;"><span style="font-family:times new roman\,serif\;"><span style="font-size:12pt\;">.</span></span></span></span><span style="color:black\;"><span style="font-family:times new roman\,serif\;"><span style="font-size:12pt\;">\, who participated in multiple spaceflights from 2009-2011. His final mission on the space shuttle\,&nbsp\;<em>Discovery</em>\, logged over 5.3 million miles in 307 hours\, and&nbsp\;</span></span></span><span style="font-family:times new roman\,serif\;"><span style="font-size:12pt\;">encompassed&nbsp\;<span style="color:black\;">202 orbits around the&nbsp\;</span>E<span style="color:black\;">arth. Dr. Barratt will be available for media interviews after his presentation.</span></span></span><br />\n&nbsp\;<br />\n<span style="color:black\;"><span style="font-family:times new roman\,serif\;"><span style="font-size:12pt\;">The event will also feature classroom presentations\, hands-on experiments\, and demonstrations led by El Camino College professors and students as well as guests from Jet Propulsion Laboratory (JPL)\, The United States Space Force\, and The Columbia Memorial Space Center.</span></span></span><br />\n&nbsp\;<br />\n<span style="color:black\;"><a data-saferedirecturl="https://www.google.com/url?q=https://linkprotect.cudasvc.com/url?a%3Dhttps%253a%252f%252fonizukamemorial.org%252f%26c%3DE\,1\,MnXboewXDRj6Nnykutn9ZiNfr0633FoZ35C7UweEmfXjaZjnBoYaVetOsvMCW_mcc8wsJV5G48vRvxYMOeImyGd39VlOOWDQuBrVIgYG3w\,\,%26typo%3D1&amp\;source=gmail&amp\;ust=1646194628496000&amp\;usg=AOvVaw3JZX4sFPBbvTPNAbrjpNTP" href="https://linkprotect.cudasvc.com/url?a=https%3a%2f%2fonizukamemorial.org%2f&amp\;c=E\,1\,MnXboewXDRj6Nnykutn9ZiNfr0633FoZ35C7UweEmfXjaZjnBoYaVetOsvMCW_mcc8wsJV5G48vRvxYMOeImyGd39VlOOWDQuBrVIgYG3w\,\,&amp\;typo=1" style="color:rgb(17\, 85\, 204)\;" target="_blank"><span style="letter-spacing:0.1pt\;"><span style="font-family:times new roman\,serif\;"><span style="font-size:12pt\;">The Ellison S. Onizuka Memorial Committee</span></span></span></a></span><span style="letter-spacing:0.1pt\;"><span style="color:black\;"><span style="font-family:times new roman\,serif\;"><span style="font-size:12pt\;">\, El Camino College\, and American Honda Motor Co.\, Inc. sponsor this free\, hands-on event. This year marks the 36th anniversary of the Space Shuttle Challenger accident that took the lives of the seven crew members\, including Ellison Onizuka. This annual event honors Onizuka&rsquo\;s memory and is dedicated to his dream of inspiring the youth of America to strive for and achieve their career goals.</span></span></span></span><br />\n&nbsp\;
LOCATION:Marsee Auditorium at El Camino College\, 16007 Crenshaw Blvd.\, Torrance\, CA 90506
UID:e.2438.5290
SEQUENCE:3
DTSTAMP:20260421T110143Z
URL:https://business.hbchamber.net/events/details/nasa-astronaut-to-speak-at-el-camino-college-s-onizuka-space-science-day-2022-5290
END:VEVENT

END:VCALENDAR
