BEGIN:VCALENDAR
VERSION:2.0
PRODID:-//ChamberMaster//Event Calendar 2.0//EN
METHOD:PUBLISH
X-PUBLISHED-TTL:P3D
REFRESH-INTERVAL:P3D
CALSCALE:GREGORIAN
BEGIN:VEVENT
DTSTART:20240210T180000Z
DTEND:20240210T230000Z
X-MICROSOFT-CDO-ALLDAYEVENT:FALSE
SUMMARY:Mychal's Art Show
DESCRIPTION:Mark your calendars for the 10th Friends of Mychal's Art show on Saturday\, February 10th from 10AM-3PM at Mychal's Learning Place! We are looking for a maximum of 25 artists to showcase their work at our Saturday open house. The open house is free admission and open to everyone in the community. In alignment with Mychal's mission of providing opportunities for individuals with disabilities\, we ask that all artists fall within this community and have a strong focus on growing their presence in the art world.\n\n \n\nArtists interested in participating can reach out to Jillian by emailing jillian@mychals.org for more information on the submission process. If you plan on attending the event\, please RSVP by clicking the button on the left.
X-ALT-DESC;FMTTYPE=text/html:<p style="margin: 0px\; padding: 0px\; color: rgb(255\, 255\, 255)\; font-family: Arial\, Verdana\, Helvetica\, sans-serif\; font-size: 14px\;"><span style="font-size: 16px\; color: rgb(0\, 0\, 0)\; font-family: Thasadith\, sans-serif\;">Mark your calendars for the 10th Friends of Mychal&#39\;s Art show on Saturday\, February 10th from 10AM-3PM at Mychal&#39\;s Learning Place! We are looking for a maximum of 25 artists to showcase their work at our Saturday open house. The open house is free admission and open to everyone in the community. In alignment with Mychal&#39\;s mission of providing opportunities for individuals with disabilities\, we ask that all artists fall within this community and have a strong focus on growing their presence in the art world.</span></p>\n\n<h3 style="color: rgb(255\, 255\, 255)\; font-family: Arial\, Verdana\, Helvetica\, sans-serif\; font-size: 20px\; font-weight: bold\; margin: 0px\;">&nbsp\;</h3>\n\n<p style="margin: 0px\; padding: 0px\; color: rgb(255\, 255\, 255)\; font-family: Arial\, Verdana\, Helvetica\, sans-serif\; font-size: 14px\;"><span style="font-size: 16px\; color: rgb(0\, 0\, 0)\; font-family: Thasadith\, sans-serif\;">Artists interested in participating can reach out to Jillian by emailing</span><a href="mailto:jillian@mychals.org" style="color: rgb(197\, 43\, 49)\; font-size: 16px\; font-family: Thasadith\, sans-serif\;" target="_blank">&nbsp\;jillian@mychals.org</a><span style="font-size: 16px\; color: rgb(0\, 0\, 0)\; font-family: Thasadith\, sans-serif\;">&nbsp\;for more information on the submission process. If you plan on attending the event\, please RSVP by clicking the button on the left.</span></p>\n
LOCATION:MYCHAL'S LEARNING PLACE 310.297.9333 | www.mychals.org 4901 W. Rosecrans Ave. | Hawthorne\, CA 90250
UID:e.2438.9264
SEQUENCE:3
DTSTAMP:20260419T131506Z
URL:https://business.hbchamber.net/events/details/mychal-s-art-show-9264
END:VEVENT

END:VCALENDAR
