BEGIN:VCALENDAR
VERSION:2.0
PRODID:-//ChamberMaster//Event Calendar 2.0//EN
METHOD:PUBLISH
X-PUBLISHED-TTL:P3D
REFRESH-INTERVAL:P3D
CALSCALE:GREGORIAN
BEGIN:VEVENT
DTSTART:20250517T183000Z
DTEND:20250517T220000Z
X-MICROSOFT-CDO-ALLDAYEVENT:FALSE
SUMMARY:Mychal's 23rd Annual Luncheon & Auction
DESCRIPTION:The Annual Luncheon & Auction is our longest standing fundraiser that includes an afternoon of celebration featuring silent & live auctions\, student performances\, awards\, and so much more. Highlighting the spirit of Mychal's Learning Place\, the Annual Luncheon & Auction is the largest fundraiser of the year for the organization supporting more than half of annual fundraising totals.\n\n\n\nThis 23rd Annual event will feature a Student Spotlight.  We will also be honoring a wonderful supporter with this year's Angel Award.  And last but not least\, the event would not be complete without a sneak preview of the latest musical performance.
X-ALT-DESC;FMTTYPE=text/html:The Annual Luncheon &amp\; Auction is our longest standing fundraiser that includes an afternoon of celebration featuring silent &amp\; live auctions\, student performances\, awards\, and so much more. Highlighting the spirit of Mychal&rsquo\;s Learning Place\, the Annual Luncheon &amp\; Auction is the largest fundraiser of the year for the organization supporting more than half of annual fundraising totals.<br />\n<br />\nThis 23rd Annual event will feature a Student Spotlight.&nbsp\; We will also be honoring a wonderful supporter with this year&rsquo\;s Angel Award.&nbsp\; And last but not least\, the event would not be complete without a sneak preview of the latest musical performance.
LOCATION:Westdrift Hotel 1400 Parkview Ave Manhattan Beach\, CA 90266
UID:e.2438.11415
SEQUENCE:3
DTSTAMP:20260422T224946Z
URL:https://business.hbchamber.net/events/details/mychal-s-23rd-annual-luncheon-auction-11415
END:VEVENT

END:VCALENDAR
