BEGIN:VCALENDAR
VERSION:2.0
PRODID:-//ChamberMaster//Event Calendar 2.0//EN
METHOD:PUBLISH
X-PUBLISHED-TTL:P3D
REFRESH-INTERVAL:P3D
CALSCALE:GREGORIAN
BEGIN:VEVENT
DTSTART:20250515T171500Z
DTEND:20250515T180000Z
X-MICROSOFT-CDO-ALLDAYEVENT:FALSE
SUMMARY:Moai Social Event: Wilderness Walk
DESCRIPTION:In celebration of Mental Health Awareness Month\, BCHD is partnering with South Bay Parkland Conservancy to highlight the health benefits of nature by inviting community members to embark on a Wilderness Walk! Nourish your connection with your neighbors and your community. Your participation can reduce stress\, diminish feelings of loneliness and increase your well-being. Space is limited.  Hopkins Wilderness Park\, 1102 Camino Real\, Redondo Beach\, CA 90277.  For more information\, please visit www.bchd.org/moai.
X-ALT-DESC;FMTTYPE=text/html:In celebration of Mental Health Awareness Month\, BCHD is partnering with South Bay Parkland Conservancy to highlight the health benefits of nature by inviting community members to embark on a Wilderness Walk! Nourish your connection with your neighbors and your community. Your participation can reduce stress\, diminish feelings of loneliness and increase your well-being. Space is limited.&nbsp\; Hopkins Wilderness Park\, 1102 Camino Real\, Redondo Beach\, CA 90277.&nbsp\; For more information\, please visit <a href="http://www.bchd.org/moai">www.bchd.org/moai</a>.&nbsp\;
LOCATION:Hopkins Wilderness Park 1102 Camino Real Redondo Beach\, CA 90277
UID:e.2438.11545
SEQUENCE:3
DTSTAMP:20260422T224635Z
URL:https://business.hbchamber.net/events/details/moai-social-event-wilderness-walk-11545
END:VEVENT

END:VCALENDAR
