BEGIN:VCALENDAR
VERSION:2.0
PRODID:-//ChamberMaster//Event Calendar 2.0//EN
METHOD:PUBLISH
X-PUBLISHED-TTL:P3D
REFRESH-INTERVAL:P3D
CALSCALE:GREGORIAN
BEGIN:VEVENT
DTSTART:20241119T180000Z
DTEND:20241119T210000Z
X-MICROSOFT-CDO-ALLDAYEVENT:FALSE
SUMMARY:Moai Social Event: Plant & Potluck
DESCRIPTION:
X-ALT-DESC;FMTTYPE=text/html:
LOCATION:Hopkins Wilderness Park 1102 Camino Real Redondo Beach\, CA 90277
UID:e.2438.10792
SEQUENCE:3
DTSTAMP:20260422T192444Z
URL:https://business.hbchamber.net/events/details/moai-social-event-plant-potluck-10792
END:VEVENT

END:VCALENDAR
