BEGIN:VCALENDAR
VERSION:2.0
PRODID:-//ChamberMaster//Event Calendar 2.0//EN
METHOD:PUBLISH
X-PUBLISHED-TTL:P3D
REFRESH-INTERVAL:P3D
CALSCALE:GREGORIAN
BEGIN:VEVENT
DTSTART:20250627T010000Z
DTEND:20250627T020000Z
X-MICROSOFT-CDO-ALLDAYEVENT:FALSE
SUMMARY:Moai Social Event: Kindness Campfire
DESCRIPTION:In 60 minutes\, we will ground ourselves in our intention to create a kinder and healthier world for all through sharing self-reflections and stories of kindness--anything you've done\, experienced or seen in the last month. We'll close with a brief takeaway and call to action in the month ahead.
X-ALT-DESC;FMTTYPE=text/html:In 60 minutes\, we will ground ourselves in our intention to create a kinder and healthier world for all through sharing self-reflections and stories of kindness--anything you&#39\;ve done\, experienced or seen in the last month. We&#39\;ll close with a brief takeaway and call to action in the month ahead.&nbsp\;
LOCATION:Beach Cities Caf 514 N Prospect Ave Redondo Beach\, CA
UID:e.2438.12417
SEQUENCE:3
DTSTAMP:20260423T004010Z
URL:https://business.hbchamber.net/events/details/moai-social-event-kindness-campfire-12417
END:VEVENT

END:VCALENDAR
