BEGIN:VCALENDAR
VERSION:2.0
PRODID:-//ChamberMaster//Event Calendar 2.0//EN
METHOD:PUBLISH
X-PUBLISHED-TTL:P3D
REFRESH-INTERVAL:P3D
CALSCALE:GREGORIAN
BEGIN:VEVENT
DTSTART:20250712T193000Z
DTEND:20250712T203000Z
X-MICROSOFT-CDO-ALLDAYEVENT:FALSE
SUMMARY:Moai Social Event: El Segundo Blue Butterfly Walk
DESCRIPTION:In partnership with South Bay Parkland Conservancy (SBPC)\, Beach Cities Health District invites you to join us for our next Moai Social Event: El Segundo Blue Butterfly Walk. We will walk and talk discussing the habitat\, plants\, and of course the butterflies!
X-ALT-DESC;FMTTYPE=text/html:In partnership with South Bay Parkland Conservancy (SBPC)\, Beach Cities Health District invites you to join us for our next Moai Social Event: El Segundo Blue Butterfly Walk. We will walk and talk discussing the habitat\, plants\, and of course the butterflies!&nbsp\;
LOCATION:Meet on the sidewalk north of Miramar Park 201 Paseo De La Playa Redondo Beach\, CA
UID:e.2438.12463
SEQUENCE:3
DTSTAMP:20260423T021723Z
URL:https://business.hbchamber.net/events/details/moai-social-event-el-segundo-blue-butterfly-walk-12463
END:VEVENT

END:VCALENDAR
